Package: BioGA Version: 1.3.0 Command: /home/biocbuild/R/R/bin/R CMD build --keep-empty-dirs --no-resave-data BioGA StartedAt: 2025-10-20 22:17:05 -0000 (Mon, 20 Oct 2025) EndedAt: 2025-10-20 22:18:19 -0000 (Mon, 20 Oct 2025) EllapsedTime: 74.0 seconds RetCode: 0 Status: OK PackageFile: BioGA_1.3.0.tar.gz PackageFileSize: 334.2 KiB