Package: BioGA Version: 1.3.0 Command: chmod a+r BioGA -R && F:\biocbuild\bbs-3.22-bioc\R\bin\R.exe CMD build --keep-empty-dirs --no-resave-data BioGA StartedAt: 2025-08-14 18:46:32 -0400 (Thu, 14 Aug 2025) EndedAt: 2025-08-14 18:48:05 -0400 (Thu, 14 Aug 2025) EllapsedTime: 93.0 seconds RetCode: 0 Status: OK PackageFile: BioGA_1.3.0.tar.gz PackageFileSize: 305.9 KiB