Package: BioGA Version: 1.3.0 Command: /Library/Frameworks/R.framework/Resources/bin/R CMD INSTALL BioGA StartedAt: 2025-10-19 15:52:10 -0400 (Sun, 19 Oct 2025) EndedAt: 2025-10-19 15:53:07 -0400 (Sun, 19 Oct 2025) EllapsedTime: 56.7 seconds RetCode: 0 Status: OK