Package: BioGA Version: 1.3.0 Command: /Library/Frameworks/R.framework/Resources/bin/R CMD check --install=check:BioGA.install-out.txt --library=/Library/Frameworks/R.framework/Resources/library --no-vignettes --timings BioGA_1.3.0.tar.gz StartedAt: 2025-10-19 20:38:44 -0400 (Sun, 19 Oct 2025) EndedAt: 2025-10-19 20:46:19 -0400 (Sun, 19 Oct 2025) EllapsedTime: 455.2 seconds RetCode: 0 Status: OK CheckDir: BioGA.Rcheck Warnings: 0