Package: BioGA Version: 1.3.0 Command: /Library/Frameworks/R.framework/Resources/bin/R CMD check --install=check:BioGA.install-out.txt --library=/Library/Frameworks/R.framework/Resources/library --no-vignettes --timings BioGA_1.3.0.tar.gz StartedAt: 2025-10-21 18:43:05 -0400 (Tue, 21 Oct 2025) EndedAt: 2025-10-21 18:44:13 -0400 (Tue, 21 Oct 2025) EllapsedTime: 67.9 seconds RetCode: 0 Status: OK CheckDir: BioGA.Rcheck Warnings: 0