Package: BioGA Version: 1.3.0 Command: /Library/Frameworks/R.framework/Resources/bin/R CMD build --keep-empty-dirs --no-resave-data BioGA StartedAt: 2025-10-21 15:47:15 -0400 (Tue, 21 Oct 2025) EndedAt: 2025-10-21 15:47:36 -0400 (Tue, 21 Oct 2025) EllapsedTime: 20.2 seconds RetCode: 0 Status: OK PackageFile: BioGA_1.3.0.tar.gz PackageFileSize: 310.1 KiB