Package: BioCor Version: 1.34.0 Command: rm -rf BioCor.buildbin-libdir && mkdir BioCor.buildbin-libdir && /Users/biocbuild/BBS/utils/build-universal.sh BioCor_1.34.0.tar.gz /Library/Frameworks/R.framework/Resources/bin/R BioCor.buildbin-libdir StartedAt: 2025-11-18 17:14:46 -0500 (Tue, 18 Nov 2025) EndedAt: 2025-11-18 17:15:32 -0500 (Tue, 18 Nov 2025) EllapsedTime: 45.7 seconds RetCode: 0 Status: OK PackageFile: BioCor_1.34.0.tgz PackageFileSize: 1.657 MiB