Package: BioCor Version: 1.34.0 Command: /Library/Frameworks/R.framework/Resources/bin/R CMD INSTALL BioCor StartedAt: 2025-11-17 17:20:24 -0500 (Mon, 17 Nov 2025) EndedAt: 2025-11-17 17:20:31 -0500 (Mon, 17 Nov 2025) EllapsedTime: 7.4 seconds RetCode: 0 Status: OK