Package: BioCor Version: 1.34.0 Command: /Library/Frameworks/R.framework/Resources/bin/R CMD check --install=check:BioCor.install-out.txt --library=/Library/Frameworks/R.framework/Resources/library --no-vignettes --timings BioCor_1.34.0.tar.gz StartedAt: 2025-11-18 03:14:30 -0500 (Tue, 18 Nov 2025) EndedAt: 2025-11-18 03:15:46 -0500 (Tue, 18 Nov 2025) EllapsedTime: 75.7 seconds RetCode: 0 Status: OK CheckDir: BioCor.Rcheck Warnings: 0