Package: BindingSiteFinder Version: 2.7.1 Command: rm -rf BindingSiteFinder.buildbin-libdir && mkdir BindingSiteFinder.buildbin-libdir && F:\biocbuild\bbs-3.22-bioc\R\bin\R.exe CMD INSTALL --build --library=BindingSiteFinder.buildbin-libdir BindingSiteFinder_2.7.1.tar.gz StartedAt: 2025-08-15 09:48:17 -0400 (Fri, 15 Aug 2025) EndedAt: 2025-08-15 09:53:10 -0400 (Fri, 15 Aug 2025) EllapsedTime: 294.0 seconds RetCode: 0 Status: OK PackageFile: BindingSiteFinder_2.7.1.zip PackageFileSize: 2.432 MiB