Package: BindingSiteFinder Version: 2.7.1 Command: /home/biocbuild/bbs-3.22-bioc/R/bin/R CMD build --keep-empty-dirs --no-resave-data --md5 BindingSiteFinder StartedAt: 2025-10-19 16:28:47 -0400 (Sun, 19 Oct 2025) EndedAt: 2025-10-19 16:31:41 -0400 (Sun, 19 Oct 2025) EllapsedTime: 174.2 seconds RetCode: 0 Status: OK PackageFile: BindingSiteFinder_2.7.1.tar.gz PackageFileSize: 2.613 MiB