Package: BindingSiteFinder Version: 2.7.1 Command: /Library/Frameworks/R.framework/Resources/bin/R CMD INSTALL BindingSiteFinder StartedAt: 2025-10-19 15:37:35 -0400 (Sun, 19 Oct 2025) EndedAt: 2025-10-19 15:38:39 -0400 (Sun, 19 Oct 2025) EllapsedTime: 64.0 seconds RetCode: 0 Status: OK