############################################################################## ############################################################################## ### ### Running command: ### ### /Library/Frameworks/R.framework/Resources/bin/R CMD check --install=check:BindingSiteFinder.install-out.txt --library=/Library/Frameworks/R.framework/Resources/library --no-vignettes --timings BindingSiteFinder_2.8.0.tar.gz ### ############################################################################## ############################################################################## * using log directory ‘/Users/biocbuild/bbs-3.22-bioc/meat/BindingSiteFinder.Rcheck’ * using R version 4.5.1 Patched (2025-09-10 r88807) * using platform: x86_64-apple-darwin20 * R was compiled by Apple clang version 14.0.0 (clang-1400.0.29.202) GNU Fortran (GCC) 14.2.0 * running under: macOS Monterey 12.7.6 * using session charset: UTF-8 * using option ‘--no-vignettes’ * checking for file ‘BindingSiteFinder/DESCRIPTION’ ... OK * checking extension type ... Package * this is package ‘BindingSiteFinder’ version ‘2.8.0’ * package encoding: UTF-8 * checking package namespace information ... OK * checking package dependencies ... OK * checking if this is a source package ... OK * checking if there is a namespace ... OK * checking for hidden files and directories ... OK * checking for portable file names ... OK * checking for sufficient/correct file permissions ... OK * checking whether package ‘BindingSiteFinder’ can be installed ... OK * checking installed package size ... OK * checking package directory ... OK * checking ‘build’ directory ... OK * checking DESCRIPTION meta-information ... OK * checking top-level files ... OK * checking for left-over files ... OK * checking index information ... OK * checking package subdirectories ... OK * checking code files for non-ASCII characters ... OK * checking R files for syntax errors ... OK * checking whether the package can be loaded ... OK * checking whether the package can be loaded with stated dependencies ... OK * checking whether the package can be unloaded cleanly ... OK * checking whether the namespace can be loaded with stated dependencies ... OK * checking whether the namespace can be unloaded cleanly ... OK * checking dependencies in R code ... OK * checking S3 generic/method consistency ... OK * checking replacement functions ... OK * checking foreign function calls ... OK * checking R code for possible problems ... OK * checking Rd files ... OK * checking Rd metadata ... OK * checking Rd cross-references ... NOTE Found the following Rd file(s) with Rd \link{} targets missing package anchors: BSFind.Rd: GenomicRanges, CompressedGRangesList annotateWithScore.Rd: GenomicRanges assignToGenes.Rd: GenomicRanges, overlaps assignToTranscriptRegions.Rd: CompressedGRangesList, overlaps bindingSiteDefinednessPlot.Rd: ggplot calculateBsBackground.Rd: GenomicRanges duplicatedSitesPlot.Rd: ggplot estimateBsWidth.Rd: GenomicRanges estimateBsWidthPlot.Rd: ggplot geneOverlapsPlot.Rd: ggplot geneRegulationPlot.Rd: GenomicRanges globalScorePlot.Rd: ggplot makeBsSummaryPlot.Rd: ggplot mergeCrosslinkDiagnosticsPlot.Rd: ggplot plotBsBackgroundFilter.Rd: ggplot plotBsMA.Rd: ggplot plotBsVolcano.Rd: ggplot processingStepsFlowChart.Rd: ggplot pureClipGeneWiseFilter.Rd: GenomicRanges, overlaps pureClipGlobalFilter.Rd: GenomicRanges pureClipGlobalFilterPlot.Rd: ggplot reproducibilityFilterPlot.Rd: ggplot reproducibilitySamplesPlot.Rd: ggplot targetGeneSpectrumPlot.Rd: ggplot transcriptRegionOverlapsPlot.Rd: ggplot transcriptRegionSpectrumPlot.Rd: ggplot Please provide package anchors for all Rd \link{} targets not in the package itself and the base packages. * checking for missing documentation entries ... OK * checking for code/documentation mismatches ... OK * checking Rd \usage sections ... OK * checking Rd contents ... OK * checking for unstated dependencies in examples ... OK * checking files in ‘vignettes’ ... OK * checking examples ... OK Examples with CPU (user + system) or elapsed time > 5s user system elapsed bindingSiteDefinednessPlot 33.648 0.662 42.610 processingStepsFlowChart 30.834 2.593 36.831 quickFigure 30.602 1.200 38.848 BSFind 29.755 0.439 30.323 calculateBsFoldChange 17.739 0.478 28.872 plotBsMA 12.100 0.196 12.823 estimateBsWidth 10.580 1.158 36.884 estimateBsWidthPlot 10.495 1.104 39.295 geneRegulationPlot 10.644 0.386 14.362 plotBsVolcano 10.514 0.281 11.823 bindingSiteCoveragePlot 9.991 0.475 10.515 rangeCoveragePlot 6.575 0.168 6.770 reproducibilityScatterPlot 6.284 0.108 6.425 coverageOverRanges 2.979 3.322 55.672 plotBsBackgroundFilter 5.168 0.202 7.283 calculateBsBackground 4.742 0.141 7.522 mergeSummaryPlot 4.227 0.354 6.371 filterBsBackground 3.971 0.304 6.791 * checking for unstated dependencies in ‘tests’ ... OK * checking tests ... Running ‘testthat.R’ OK * checking for unstated dependencies in vignettes ... OK * checking package vignettes ... OK * checking running R code from vignettes ... SKIPPED * checking re-building of vignette outputs ... SKIPPED * checking PDF version of manual ... OK * DONE Status: 1 NOTE See ‘/Users/biocbuild/bbs-3.22-bioc/meat/BindingSiteFinder.Rcheck/00check.log’ for details.