Package: BindingSiteFinder Version: 2.7.1 Command: /Library/Frameworks/R.framework/Resources/bin/R CMD build --keep-empty-dirs --no-resave-data BindingSiteFinder StartedAt: 2025-10-19 16:13:17 -0400 (Sun, 19 Oct 2025) EndedAt: 2025-10-19 16:17:10 -0400 (Sun, 19 Oct 2025) EllapsedTime: 233.8 seconds RetCode: 0 Status: OK PackageFile: BindingSiteFinder_2.7.1.tar.gz PackageFileSize: 2.771 MiB