Package: BindingSiteFinder Version: 2.7.1 Command: /Library/Frameworks/R.framework/Resources/bin/R CMD check --install=check:BindingSiteFinder.install-out.txt --library=/Library/Frameworks/R.framework/Resources/library --no-vignettes --timings BindingSiteFinder_2.7.1.tar.gz StartedAt: 2025-10-24 18:39:32 -0400 (Fri, 24 Oct 2025) EndedAt: 2025-10-24 18:44:43 -0400 (Fri, 24 Oct 2025) EllapsedTime: 310.7 seconds RetCode: 0 Status: OK CheckDir: BindingSiteFinder.Rcheck Warnings: 0