Package: BindingSiteFinder Version: 2.7.1 Command: /Library/Frameworks/R.framework/Resources/bin/R CMD build --keep-empty-dirs --no-resave-data BindingSiteFinder StartedAt: 2025-10-23 15:45:14 -0400 (Thu, 23 Oct 2025) EndedAt: 2025-10-23 15:46:16 -0400 (Thu, 23 Oct 2025) EllapsedTime: 62.8 seconds RetCode: 0 Status: OK PackageFile: BindingSiteFinder_2.7.1.tar.gz PackageFileSize: 2.772 MiB