Package: BindingSiteFinder Version: 2.7.1 Command: rm -rf BindingSiteFinder.buildbin-libdir && mkdir BindingSiteFinder.buildbin-libdir && /Users/biocbuild/BBS/utils/build-universal.sh BindingSiteFinder_2.7.1.tar.gz /Library/Frameworks/R.framework/Resources/bin/R BindingSiteFinder.buildbin-libdir StartedAt: 2025-10-23 23:01:44 -0400 (Thu, 23 Oct 2025) EndedAt: 2025-10-23 23:02:06 -0400 (Thu, 23 Oct 2025) EllapsedTime: 21.5 seconds RetCode: 0 Status: OK PackageFile: BindingSiteFinder_2.7.1.tgz PackageFileSize: 3.183 MiB