Package: BicARE Version: 1.67.0 Command: /home/biocbuild/R/R/bin/R CMD check --install=check:BicARE.install-out.txt --library=/home/biocbuild/R/R/site-library --no-vignettes --timings BicARE_1.67.0.tar.gz StartedAt: 2025-10-21 04:51:57 -0000 (Tue, 21 Oct 2025) EndedAt: 2025-10-21 04:56:43 -0000 (Tue, 21 Oct 2025) EllapsedTime: 285.2 seconds RetCode: 0 Status: OK CheckDir: BicARE.Rcheck Warnings: 0