Package: BicARE Version: 1.67.0 Command: /home/biocbuild/R/R/bin/R CMD build --keep-empty-dirs --no-resave-data BicARE StartedAt: 2025-10-20 22:11:08 -0000 (Mon, 20 Oct 2025) EndedAt: 2025-10-20 22:14:46 -0000 (Mon, 20 Oct 2025) EllapsedTime: 218.1 seconds RetCode: 0 Status: OK PackageFile: BicARE_1.67.0.tar.gz PackageFileSize: 450.9 KiB