Package: BicARE Version: 1.67.0 Command: /home/biocbuild/bbs-3.22-bioc/R/bin/R CMD check --install=check:BicARE.install-out.txt --library=/home/biocbuild/bbs-3.22-bioc/R/site-library --timings BicARE_1.67.0.tar.gz StartedAt: 2025-10-27 21:24:50 -0400 (Mon, 27 Oct 2025) EndedAt: 2025-10-27 21:28:55 -0400 (Mon, 27 Oct 2025) EllapsedTime: 245.3 seconds RetCode: 0 Status: OK CheckDir: BicARE.Rcheck Warnings: 0