Package: BicARE Version: 1.68.0 Command: /Library/Frameworks/R.framework/Resources/bin/R CMD check --install=check:BicARE.install-out.txt --library=/Library/Frameworks/R.framework/Resources/library --no-vignettes --timings BicARE_1.68.0.tar.gz StartedAt: 2025-10-30 02:21:51 -0400 (Thu, 30 Oct 2025) EndedAt: 2025-10-30 02:37:50 -0400 (Thu, 30 Oct 2025) EllapsedTime: 958.8 seconds RetCode: 0 Status: OK CheckDir: BicARE.Rcheck Warnings: 0