Package: BicARE Version: 1.67.0 Command: /Library/Frameworks/R.framework/Resources/bin/R CMD build --keep-empty-dirs --no-resave-data BicARE StartedAt: 2025-10-28 16:10:35 -0400 (Tue, 28 Oct 2025) EndedAt: 2025-10-28 16:13:27 -0400 (Tue, 28 Oct 2025) EllapsedTime: 172.4 seconds RetCode: 0 Status: OK PackageFile: BicARE_1.67.0.tar.gz PackageFileSize: 459.8 KiB