Package: BicARE Version: 1.67.0 Command: rm -rf BicARE.buildbin-libdir && mkdir BicARE.buildbin-libdir && /Users/biocbuild/BBS/utils/build-universal.sh BicARE_1.67.0.tar.gz /Library/Frameworks/R.framework/Resources/bin/R BicARE.buildbin-libdir StartedAt: 2025-10-29 01:24:11 -0400 (Wed, 29 Oct 2025) EndedAt: 2025-10-29 01:24:40 -0400 (Wed, 29 Oct 2025) EllapsedTime: 29.0 seconds RetCode: 0 Status: OK PackageFile: BicARE_1.67.0.tgz PackageFileSize: 507 KiB