Package: BicARE Version: 1.68.0 Command: /Library/Frameworks/R.framework/Resources/bin/R CMD check --install=check:BicARE.install-out.txt --library=/Library/Frameworks/R.framework/Resources/library --no-vignettes --timings BicARE_1.68.0.tar.gz StartedAt: 2025-11-06 18:38:33 -0500 (Thu, 06 Nov 2025) EndedAt: 2025-11-06 18:41:52 -0500 (Thu, 06 Nov 2025) EllapsedTime: 198.2 seconds RetCode: 0 Status: OK CheckDir: BicARE.Rcheck Warnings: 0