Package: BicARE Version: 1.68.0 Command: /Library/Frameworks/R.framework/Resources/bin/R CMD build --keep-empty-dirs --no-resave-data BicARE StartedAt: 2025-11-02 15:44:57 -0500 (Sun, 02 Nov 2025) EndedAt: 2025-11-02 15:45:43 -0500 (Sun, 02 Nov 2025) EllapsedTime: 46.5 seconds RetCode: 0 Status: OK PackageFile: BicARE_1.68.0.tar.gz PackageFileSize: 460 KiB