Package: BiSeq Version: 1.49.1 Command: /home/biocbuild/R/R/bin/R CMD INSTALL BiSeq StartedAt: 2025-10-16 21:43:45 -0000 (Thu, 16 Oct 2025) EndedAt: 2025-10-16 21:44:40 -0000 (Thu, 16 Oct 2025) EllapsedTime: 54.6 seconds RetCode: 0 Status: OK