Package: BiSeq Version: 1.49.1 Command: /Library/Frameworks/R.framework/Resources/bin/R CMD check --install=check:BiSeq.install-out.txt --library=/Library/Frameworks/R.framework/Resources/library --no-vignettes --timings BiSeq_1.49.1.tar.gz StartedAt: 2025-10-19 20:42:16 -0400 (Sun, 19 Oct 2025) EndedAt: 2025-10-19 20:51:09 -0400 (Sun, 19 Oct 2025) EllapsedTime: 533.2 seconds RetCode: 0 Status: OK CheckDir: BiSeq.Rcheck Warnings: 0