Package: BiSeq Version: 1.49.1 Command: /Library/Frameworks/R.framework/Resources/bin/R CMD build --keep-empty-dirs --no-resave-data BiSeq StartedAt: 2025-10-19 16:17:29 -0400 (Sun, 19 Oct 2025) EndedAt: 2025-10-19 16:19:34 -0400 (Sun, 19 Oct 2025) EllapsedTime: 125.5 seconds RetCode: 0 Status: OK PackageFile: BiSeq_1.49.1.tar.gz PackageFileSize: 914.2 KiB