Package: BiSeq Version: 1.49.1 Command: rm -rf BiSeq.buildbin-libdir && mkdir BiSeq.buildbin-libdir && /Users/biocbuild/BBS/utils/build-universal.sh BiSeq_1.49.1.tar.gz /Library/Frameworks/R.framework/Resources/bin/R BiSeq.buildbin-libdir StartedAt: 2025-10-20 02:58:55 -0400 (Mon, 20 Oct 2025) EndedAt: 2025-10-20 02:59:56 -0400 (Mon, 20 Oct 2025) EllapsedTime: 60.9 seconds RetCode: 0 Status: OK PackageFile: BiSeq_1.49.1.tgz PackageFileSize: 1.156 MiB