Package: BiRewire Version: 3.41.0 Command: chmod a+r BiRewire -R && F:\biocbuild\bbs-3.22-bioc\R\bin\R.exe CMD build --keep-empty-dirs --no-resave-data BiRewire StartedAt: 2025-08-14 18:48:31 -0400 (Thu, 14 Aug 2025) EndedAt: 2025-08-14 18:49:53 -0400 (Thu, 14 Aug 2025) EllapsedTime: 81.6 seconds RetCode: 0 Status: OK PackageFile: BiRewire_3.41.0.tar.gz PackageFileSize: 604.6 KiB