Package: BiFET Version: 1.29.1 Command: /home/biocbuild/R/R/bin/R CMD check --install=check:BiFET.install-out.txt --library=/home/biocbuild/R/R/site-library --no-vignettes --timings BiFET_1.29.1.tar.gz StartedAt: 2025-10-21 04:52:00 -0000 (Tue, 21 Oct 2025) EndedAt: 2025-10-21 04:55:17 -0000 (Tue, 21 Oct 2025) EllapsedTime: 196.1 seconds RetCode: 0 Status: OK CheckDir: BiFET.Rcheck Warnings: 0