Package: BiFET Version: 1.29.1 Command: F:\biocbuild\bbs-3.22-bioc\R\bin\R.exe CMD check --no-multiarch --install=check:BiFET.install-out.txt --library=F:\biocbuild\bbs-3.22-bioc\R\library --no-vignettes --timings BiFET_1.29.1.tar.gz StartedAt: 2025-08-15 00:52:11 -0400 (Fri, 15 Aug 2025) EndedAt: 2025-08-15 00:57:28 -0400 (Fri, 15 Aug 2025) EllapsedTime: 316.6 seconds RetCode: 0 Status: OK CheckDir: BiFET.Rcheck Warnings: 0