Package: BiFET Version: 1.29.1 Command: rm -rf BiFET.buildbin-libdir && mkdir BiFET.buildbin-libdir && F:\biocbuild\bbs-3.22-bioc\R\bin\R.exe CMD INSTALL --build --library=BiFET.buildbin-libdir BiFET_1.29.1.tar.gz StartedAt: 2025-08-15 09:48:13 -0400 (Fri, 15 Aug 2025) EndedAt: 2025-08-15 09:48:30 -0400 (Fri, 15 Aug 2025) EllapsedTime: 16.7 seconds RetCode: 0 Status: OK PackageFile: BiFET_1.29.1.zip PackageFileSize: 661.2 KiB