Package: BiFET Version: 1.29.1 Command: /home/biocbuild/bbs-3.22-bioc/R/bin/R CMD check --install=check:BiFET.install-out.txt --library=/home/biocbuild/bbs-3.22-bioc/R/site-library --timings BiFET_1.29.1.tar.gz StartedAt: 2025-10-19 21:25:26 -0400 (Sun, 19 Oct 2025) EndedAt: 2025-10-19 21:28:33 -0400 (Sun, 19 Oct 2025) EllapsedTime: 186.1 seconds RetCode: 0 Status: OK CheckDir: BiFET.Rcheck Warnings: 0