Package: BiFET Version: 1.29.1 Command: /Library/Frameworks/R.framework/Resources/bin/R CMD INSTALL BiFET StartedAt: 2025-10-17 15:18:35 -0400 (Fri, 17 Oct 2025) EndedAt: 2025-10-17 15:18:49 -0400 (Fri, 17 Oct 2025) EllapsedTime: 14.9 seconds RetCode: 0 Status: OK