Package: BiFET Version: 1.29.1 Command: rm -rf BiFET.buildbin-libdir && mkdir BiFET.buildbin-libdir && /Users/biocbuild/BBS/utils/build-universal.sh BiFET_1.29.1.tar.gz /Library/Frameworks/R.framework/Resources/bin/R BiFET.buildbin-libdir StartedAt: 2025-10-18 02:46:47 -0400 (Sat, 18 Oct 2025) EndedAt: 2025-10-18 02:47:02 -0400 (Sat, 18 Oct 2025) EllapsedTime: 15.0 seconds RetCode: 0 Status: OK PackageFile: BiFET_1.29.1.tgz PackageFileSize: 657.9 KiB