Package: BiFET Version: 1.29.1 Command: /Library/Frameworks/R.framework/Resources/bin/R CMD check --install=check:BiFET.install-out.txt --library=/Library/Frameworks/R.framework/Resources/library --no-vignettes --timings BiFET_1.29.1.tar.gz StartedAt: 2025-10-19 18:35:19 -0400 (Sun, 19 Oct 2025) EndedAt: 2025-10-19 18:36:23 -0400 (Sun, 19 Oct 2025) EllapsedTime: 64.0 seconds RetCode: 0 Status: OK CheckDir: BiFET.Rcheck Warnings: 0