Package: BiFET Version: 1.29.1 Command: /Library/Frameworks/R.framework/Resources/bin/R CMD build --keep-empty-dirs --no-resave-data BiFET StartedAt: 2025-10-19 15:44:26 -0400 (Sun, 19 Oct 2025) EndedAt: 2025-10-19 15:44:47 -0400 (Sun, 19 Oct 2025) EllapsedTime: 21.2 seconds RetCode: 0 Status: OK PackageFile: BiFET_1.29.1.tar.gz PackageFileSize: 642.2 KiB