Package: BiFET Version: 1.29.1 Maintainer: Ahrim Youn MaintainerEmail: Ahrim.Youn at jax.org git_url: https://git.bioconductor.org/packages/BiFET git_branch: devel git_last_commit: d537053 git_last_commit_date: 2025-06-27 12:43:52 -0400 (Fri, 27 Jun 2025)