Package: BgeeDB Version: 2.35.1 Command: /home/biocbuild/R/R/bin/R CMD INSTALL BgeeDB StartedAt: 2025-10-23 21:02:11 -0000 (Thu, 23 Oct 2025) EndedAt: 2025-10-23 21:02:58 -0000 (Thu, 23 Oct 2025) EllapsedTime: 47.6 seconds RetCode: 0 Status: OK