Package: BgeeDB Version: 2.35.0 Command: rm -rf BgeeDB.buildbin-libdir && mkdir BgeeDB.buildbin-libdir && F:\biocbuild\bbs-3.22-bioc\R\bin\R.exe CMD INSTALL --build --library=BgeeDB.buildbin-libdir BgeeDB_2.35.0.tar.gz StartedAt: 2025-08-15 09:48:08 -0400 (Fri, 15 Aug 2025) EndedAt: 2025-08-15 09:49:05 -0400 (Fri, 15 Aug 2025) EllapsedTime: 56.3 seconds RetCode: 0 Status: OK PackageFile: BgeeDB_2.35.0.zip PackageFileSize: 372.2 KiB