Package: BgeeDB Version: 2.35.1 Command: /home/biocbuild/bbs-3.22-bioc/R/bin/R CMD INSTALL BgeeDB StartedAt: 2025-10-20 15:44:08 -0400 (Mon, 20 Oct 2025) EndedAt: 2025-10-20 15:44:45 -0400 (Mon, 20 Oct 2025) EllapsedTime: 36.6 seconds RetCode: 0 Status: OK