Package: BgeeDB Version: 2.35.1 Command: /Library/Frameworks/R.framework/Resources/bin/R CMD build --keep-empty-dirs --no-resave-data BgeeDB StartedAt: 2025-10-19 16:12:09 -0400 (Sun, 19 Oct 2025) EndedAt: 2025-10-19 16:19:30 -0400 (Sun, 19 Oct 2025) EllapsedTime: 441.0 seconds RetCode: 0 Status: OK PackageFile: BgeeDB_2.35.1.tar.gz PackageFileSize: 107.1 KiB