Package: BgeeDB Version: 2.35.1 Command: /Library/Frameworks/R.framework/Resources/bin/R CMD INSTALL BgeeDB StartedAt: 2025-10-19 15:20:12 -0400 (Sun, 19 Oct 2025) EndedAt: 2025-10-19 15:20:28 -0400 (Sun, 19 Oct 2025) EllapsedTime: 15.8 seconds RetCode: 0 Status: OK