Package: BgeeDB Version: 2.35.1 Command: /Library/Frameworks/R.framework/Resources/bin/R CMD build --keep-empty-dirs --no-resave-data BgeeDB StartedAt: 2025-10-19 15:44:19 -0400 (Sun, 19 Oct 2025) EndedAt: 2025-10-19 15:48:24 -0400 (Sun, 19 Oct 2025) EllapsedTime: 245.7 seconds RetCode: 0 Status: OK PackageFile: BgeeDB_2.35.1.tar.gz PackageFileSize: 107.3 KiB