Package: BgeeDB Version: 2.35.1 Maintainer: Julien Wollbrett , Julien Roux , Andrea Komljenovic , Frederic Bastian MaintainerEmail: bgee at sib.swiss git_url: https://git.bioconductor.org/packages/BgeeDB git_branch: devel git_last_commit: 07aa210 git_last_commit_date: 2025-10-02 08:43:52 -0400 (Thu, 02 Oct 2025)