Package: BeadDataPackR Version: 1.61.0 Command: /home/biocbuild/R/R/bin/R CMD INSTALL BeadDataPackR StartedAt: 2025-10-20 20:14:29 -0000 (Mon, 20 Oct 2025) EndedAt: 2025-10-20 20:15:54 -0000 (Mon, 20 Oct 2025) EllapsedTime: 85.7 seconds RetCode: 0 Status: OK