Package: BeadDataPackR Version: 1.61.0 Command: /home/biocbuild/R/R/bin/R CMD check --install=check:BeadDataPackR.install-out.txt --library=/home/biocbuild/R/R/site-library --no-vignettes --timings BeadDataPackR_1.61.0.tar.gz StartedAt: 2025-10-21 04:49:34 -0000 (Tue, 21 Oct 2025) EndedAt: 2025-10-21 04:49:53 -0000 (Tue, 21 Oct 2025) EllapsedTime: 19.0 seconds RetCode: 0 Status: OK CheckDir: BeadDataPackR.Rcheck Warnings: 0