Package: BeadDataPackR Version: 1.61.0 Command: /home/biocbuild/bbs-3.22-bioc/R/bin/R CMD INSTALL BeadDataPackR StartedAt: 2025-10-20 15:04:56 -0400 (Mon, 20 Oct 2025) EndedAt: 2025-10-20 15:05:39 -0400 (Mon, 20 Oct 2025) EllapsedTime: 42.8 seconds RetCode: 0 Status: OK