Package: BeadDataPackR Version: 1.61.0 Command: /home/biocbuild/bbs-3.22-bioc/R/bin/R CMD check --install=check:BeadDataPackR.install-out.txt --library=/home/biocbuild/bbs-3.22-bioc/R/site-library --timings BeadDataPackR_1.61.0.tar.gz StartedAt: 2025-10-19 21:23:27 -0400 (Sun, 19 Oct 2025) EndedAt: 2025-10-19 21:23:45 -0400 (Sun, 19 Oct 2025) EllapsedTime: 18.6 seconds RetCode: 0 Status: OK CheckDir: BeadDataPackR.Rcheck Warnings: 0